BEGIN:VCALENDAR
VERSION:2.0
PRODID:-//BritishAmerican Business Network - ECPv6.15.20//NONSGML v1.0//EN
CALSCALE:GREGORIAN
METHOD:PUBLISH
X-ORIGINAL-URL:https://babn.org
X-WR-CALDESC:Events for BritishAmerican Business Network
REFRESH-INTERVAL;VALUE=DURATION:PT1H
X-Robots-Tag:noindex
X-PUBLISHED-TTL:PT1H
BEGIN:VTIMEZONE
TZID:America/New_York
BEGIN:DAYLIGHT
TZOFFSETFROM:-0500
TZOFFSETTO:-0400
TZNAME:EDT
DTSTART:20250309T070000
END:DAYLIGHT
BEGIN:STANDARD
TZOFFSETFROM:-0400
TZOFFSETTO:-0500
TZNAME:EST
DTSTART:20251102T060000
END:STANDARD
BEGIN:DAYLIGHT
TZOFFSETFROM:-0500
TZOFFSETTO:-0400
TZNAME:EDT
DTSTART:20260308T070000
END:DAYLIGHT
BEGIN:STANDARD
TZOFFSETFROM:-0400
TZOFFSETTO:-0500
TZNAME:EST
DTSTART:20261101T060000
END:STANDARD
BEGIN:DAYLIGHT
TZOFFSETFROM:-0500
TZOFFSETTO:-0400
TZNAME:EDT
DTSTART:20270314T070000
END:DAYLIGHT
BEGIN:STANDARD
TZOFFSETFROM:-0400
TZOFFSETTO:-0500
TZNAME:EST
DTSTART:20271107T060000
END:STANDARD
END:VTIMEZONE
BEGIN:VEVENT
DTSTART;TZID=America/New_York:20260430T083000
DTEND;TZID=America/New_York:20260430T113000
DTSTAMP:20260423T014855
CREATED:20260420T151503Z
LAST-MODIFIED:20260420T151503Z
UID:10000921-1777537800-1777548600@babn.org
SUMMARY:Global Markets Outlook: The New Growth Corridors  
DESCRIPTION:8:30 – 11:30 am EST\nJoin BAB and Standard Chartered for our annual Global Markets Outlook\, which will discuss and unpack the forces reshaping global trade\, investment\, and supply chains. As businesses adapt to a more fragmented economic landscape\, new growth corridors are emerging across Asia\, the Middle East and other high growth markets.
URL:https://babn.org/event/global-markets-outlook-the-new-growth-corridors/
CATEGORIES:BABN Event,British American Business
ATTACH;FMTTYPE=image/png:https://babn.org/wp-content/uploads/2022/01/Untitled-design-6.png
END:VEVENT
BEGIN:VEVENT
DTSTART;TZID=America/New_York:20260617T180000
DTEND;TZID=America/New_York:20260617T213000
DTSTAMP:20260423T014855
CREATED:20260421T135930Z
LAST-MODIFIED:20260421T135930Z
UID:10000928-1781719200-1781731800@babn.org
SUMMARY:BritishAmerican Business Transatlantic Growth Campaign  
DESCRIPTION:6:00 – 9:30 pm BST\nBritishAmerican Business invites you to celebrate the 2026 Transatlantic Growth awards in London. TAG is an annual campaign that highlights the inspiring stories of businesses of all sizes that underpin the transatlantic trade and investment relationship between the UK and the USA\, creating growth\, prosperity and jobs on both sides of the Atlantic.
URL:https://babn.org/event/britishamerican-business-transatlantic-growth-campaign/
CATEGORIES:BABN Event,British American Business
ATTACH;FMTTYPE=image/png:https://babn.org/wp-content/uploads/2022/01/Untitled-design-6.png
END:VEVENT
END:VCALENDAR