BEGIN:VCALENDAR
VERSION:2.0
PRODID:-//BritishAmerican Business Network - ECPv6.15.20//NONSGML v1.0//EN
CALSCALE:GREGORIAN
METHOD:PUBLISH
X-WR-CALNAME:BritishAmerican Business Network
X-ORIGINAL-URL:https://babn.org
X-WR-CALDESC:Events for BritishAmerican Business Network
REFRESH-INTERVAL;VALUE=DURATION:PT1H
X-Robots-Tag:noindex
X-PUBLISHED-TTL:PT1H
BEGIN:VTIMEZONE
TZID:America/New_York
BEGIN:DAYLIGHT
TZOFFSETFROM:-0500
TZOFFSETTO:-0400
TZNAME:EDT
DTSTART:20250309T070000
END:DAYLIGHT
BEGIN:STANDARD
TZOFFSETFROM:-0400
TZOFFSETTO:-0500
TZNAME:EST
DTSTART:20251102T060000
END:STANDARD
BEGIN:DAYLIGHT
TZOFFSETFROM:-0500
TZOFFSETTO:-0400
TZNAME:EDT
DTSTART:20260308T070000
END:DAYLIGHT
BEGIN:STANDARD
TZOFFSETFROM:-0400
TZOFFSETTO:-0500
TZNAME:EST
DTSTART:20261101T060000
END:STANDARD
BEGIN:DAYLIGHT
TZOFFSETFROM:-0500
TZOFFSETTO:-0400
TZNAME:EDT
DTSTART:20270314T070000
END:DAYLIGHT
BEGIN:STANDARD
TZOFFSETFROM:-0400
TZOFFSETTO:-0500
TZNAME:EST
DTSTART:20271107T060000
END:STANDARD
END:VTIMEZONE
BEGIN:VEVENT
DTSTART;TZID=America/New_York:20260430T163000
DTEND;TZID=America/New_York:20260430T183000
DTSTAMP:20260423T014634
CREATED:20260406T153057Z
LAST-MODIFIED:20260406T153057Z
UID:10000913-1777566600-1777573800@babn.org
SUMMARY:The UK-Tampa Life Sciences Trade Corridor: Opportunities for Bilateral Growth 
DESCRIPTION:4:30 – 6:30 pm EST\n\n\nThis event will bring together approximately 50-60 life sciences stakeholders and business leaders from the Tampa Bay region for a focused panel discussion on the growing life sciences ecosystem in Tampa Bay. \nModerated by Jennifer Burrington of the Tampa EDC\, the conversation will explore three key themes: \n\n\nThe current momentum and opportunities in Tampa Bay’s life sciences sector \n\n\nHow international companies\, particularly British firms\, can successfully navigate and engage with the Tampa Bay market \n\n\nStrategies for Tampa Bay to attract more life science delegations and investment from the UK and beyond
URL:https://babn.org/event/the-uk-tampa-life-sciences-trade-corridor-opportunities-for-bilateral-growth/
CATEGORIES:BABN Event,Central Florida
ATTACH;FMTTYPE=image/jpeg:https://babn.org/wp-content/uploads/2025/02/Copy-of-News.jpg
END:VEVENT
END:VCALENDAR