BEGIN:VCALENDAR
VERSION:2.0
PRODID:-//BritishAmerican Business Network - ECPv6.15.20//NONSGML v1.0//EN
CALSCALE:GREGORIAN
METHOD:PUBLISH
X-WR-CALNAME:BritishAmerican Business Network
X-ORIGINAL-URL:https://babn.org
X-WR-CALDESC:Events for BritishAmerican Business Network
REFRESH-INTERVAL;VALUE=DURATION:PT1H
X-Robots-Tag:noindex
X-PUBLISHED-TTL:PT1H
BEGIN:VTIMEZONE
TZID:America/New_York
BEGIN:DAYLIGHT
TZOFFSETFROM:-0500
TZOFFSETTO:-0400
TZNAME:EDT
DTSTART:20250309T070000
END:DAYLIGHT
BEGIN:STANDARD
TZOFFSETFROM:-0400
TZOFFSETTO:-0500
TZNAME:EST
DTSTART:20251102T060000
END:STANDARD
BEGIN:DAYLIGHT
TZOFFSETFROM:-0500
TZOFFSETTO:-0400
TZNAME:EDT
DTSTART:20260308T070000
END:DAYLIGHT
BEGIN:STANDARD
TZOFFSETFROM:-0400
TZOFFSETTO:-0500
TZNAME:EST
DTSTART:20261101T060000
END:STANDARD
BEGIN:DAYLIGHT
TZOFFSETFROM:-0500
TZOFFSETTO:-0400
TZNAME:EDT
DTSTART:20270314T070000
END:DAYLIGHT
BEGIN:STANDARD
TZOFFSETFROM:-0400
TZOFFSETTO:-0500
TZNAME:EST
DTSTART:20271107T060000
END:STANDARD
END:VTIMEZONE
BEGIN:VEVENT
DTSTART;TZID=America/New_York:20260428T140000
DTEND;TZID=America/New_York:20260428T150000
DTSTAMP:20260423T014726
CREATED:20260420T151332Z
LAST-MODIFIED:20260420T151332Z
UID:10000920-1777384800-1777388400@babn.org
SUMMARY:Let’s Talk...Using the J-1 Visa to Move UK Non-immigrant Talent to the U.S 
DESCRIPTION:2:00 – 3:00 pm EST\nLearn how to use J-1 visas to move UK talent to the U.S. with less friction\, lower cost\, and practical guidance for transatlantic business. Join the British American Business Council of New England (BABCNE) and Cenet for a complimentary webinar on how to use the J-1 visa to move UK non-immigrant talent to the United States—simply and strategically.
URL:https://babn.org/event/lets-talk-using-the-j-1-visa-to-move-uk-non-immigrant-talent-to-the-u-s/
CATEGORIES:BABN Event,New England
ATTACH;FMTTYPE=image/jpeg:https://babn.org/wp-content/uploads/2022/04/Untitled-design-3.jpg
END:VEVENT
END:VCALENDAR