BEGIN:VCALENDAR
VERSION:2.0
PRODID:-//BritishAmerican Business Network - ECPv6.15.20//NONSGML v1.0//EN
CALSCALE:GREGORIAN
METHOD:PUBLISH
X-ORIGINAL-URL:https://babn.org
X-WR-CALDESC:Events for BritishAmerican Business Network
REFRESH-INTERVAL;VALUE=DURATION:PT1H
X-Robots-Tag:noindex
X-PUBLISHED-TTL:PT1H
BEGIN:VTIMEZONE
TZID:America/New_York
BEGIN:DAYLIGHT
TZOFFSETFROM:-0500
TZOFFSETTO:-0400
TZNAME:EDT
DTSTART:20250309T070000
END:DAYLIGHT
BEGIN:STANDARD
TZOFFSETFROM:-0400
TZOFFSETTO:-0500
TZNAME:EST
DTSTART:20251102T060000
END:STANDARD
BEGIN:DAYLIGHT
TZOFFSETFROM:-0500
TZOFFSETTO:-0400
TZNAME:EDT
DTSTART:20260308T070000
END:DAYLIGHT
BEGIN:STANDARD
TZOFFSETFROM:-0400
TZOFFSETTO:-0500
TZNAME:EST
DTSTART:20261101T060000
END:STANDARD
BEGIN:DAYLIGHT
TZOFFSETFROM:-0500
TZOFFSETTO:-0400
TZNAME:EDT
DTSTART:20270314T070000
END:DAYLIGHT
BEGIN:STANDARD
TZOFFSETFROM:-0400
TZOFFSETTO:-0500
TZNAME:EST
DTSTART:20271107T060000
END:STANDARD
END:VTIMEZONE
BEGIN:VEVENT
DTSTART;TZID=America/New_York:20260424T113000
DTEND;TZID=America/New_York:20260424T133000
DTSTAMP:20260423T033652
CREATED:20260421T135247Z
LAST-MODIFIED:20260421T135247Z
UID:10000924-1777030200-1777037400@babn.org
SUMMARY:Link Club with Representative Ty Mathews 
DESCRIPTION:11:30 – 1:30 pm EST\nState Representative Ty Mathews is championing Ohio’s global economic leadership through key legislation\, including House Bill 291\, which establishes the Ohio International Trade Commission to evaluate and strengthen business relations with foreign countries and support Ohio’s export competitiveness; alongside House Bill 332\, expanding the linked deposit program to empower small defense contractors with affordable capital for international supply chains\, and House Bill 292\, creating the Ohio Defense and Space Commission to recruit international businesses and promote aerospace innovation vital to global trade.
URL:https://babn.org/event/link-club-with-representative-ty-mathews/
CATEGORIES:BABN Event,Ohio
ATTACH;FMTTYPE=image/png:https://babn.org/wp-content/uploads/2022/02/Untitled-design-20.png
END:VEVENT
BEGIN:VEVENT
DTSTART;TZID=America/New_York:20260430T173000
DTEND;TZID=America/New_York:20260430T193000
DTSTAMP:20260423T033652
CREATED:20260421T135539Z
LAST-MODIFIED:20260421T135539Z
UID:10000925-1777570200-1777577400@babn.org
SUMMARY:International Chambers Passport Professionals – April 2026 
DESCRIPTION:5:30 – 7:30 pm EST\nThe BACC has joined together with the Collaborative Chambers Alliance\, the French-American Chamber\, the Greater Cleveland Chinese Chamber and the Swedish-American Chamber and hopes to expand to other international chambers of commerce.This casual\, high-energy evening is the perfect chance to connect with fellow expats\, international professionals\, and members of the global business community right here in Cleveland.
URL:https://babn.org/event/international-chambers-passport-professionals-april-2026/
CATEGORIES:BABN Event,Ohio
ATTACH;FMTTYPE=image/png:https://babn.org/wp-content/uploads/2022/02/Untitled-design-20.png
END:VEVENT
BEGIN:VEVENT
DTSTART;TZID=America/New_York:20260720T080000
DTEND;TZID=America/New_York:20260724T170000
DTSTAMP:20260423T033652
CREATED:20260302T211722Z
LAST-MODIFIED:20260304T160706Z
UID:10000887-1784534400-1784912400@babn.org
SUMMARY:Farnborough International Airshow 2026  
DESCRIPTION:8:00 am – 5:00 pm EST\n\nTogether\, the British American Chamber of Commerce-Ohio\, French American Chamber of Commerce- Midwest Ohio\, and Global Aero Industries are joining forces to bring Ohio’s brightest aerospace innovators to the world stage at Farnborough International Airshow 2026.
URL:https://babn.org/event/farnborough-international-airshow-2026/
CATEGORIES:BABN Event,Ohio
ATTACH;FMTTYPE=image/png:https://babn.org/wp-content/uploads/2022/02/Untitled-design-20.png
END:VEVENT
BEGIN:VEVENT
DTSTART;TZID=America/New_York:20261111T080000
DTEND;TZID=America/New_York:20261112T170000
DTSTAMP:20260423T033652
CREATED:20260302T211834Z
LAST-MODIFIED:20260309T132756Z
UID:10000888-1794384000-1794502800@babn.org
SUMMARY:International Advanced Manufacturing Expo 2026  
DESCRIPTION:8:00 am – 5:00 pm EST\nJoin BACC for the Future of Manufacturing at IAM Expo in 2026! The International Advanced Manufacturing Expo (IAM) is a premier event spotlighting cutting-edge technologies that are reshaping the manufacturing landscape. Explore innovations in AI\, robotics\, additive manufacturing\, advanced materials\, EVs\, aerospace\, and more—while engaging with industry leaders driving the next wave of industrial transformation.
URL:https://babn.org/event/international-advanced-manufacturing-expo-2026/
CATEGORIES:BABN Event,Ohio
ATTACH;FMTTYPE=image/png:https://babn.org/wp-content/uploads/2022/02/Untitled-design-20.png
END:VEVENT
END:VCALENDAR