BEGIN:VCALENDAR
VERSION:2.0
PRODID:-//BritishAmerican Business Network - ECPv6.15.20//NONSGML v1.0//EN
CALSCALE:GREGORIAN
METHOD:PUBLISH
X-ORIGINAL-URL:https://babn.org
X-WR-CALDESC:Events for BritishAmerican Business Network
REFRESH-INTERVAL;VALUE=DURATION:PT1H
X-Robots-Tag:noindex
X-PUBLISHED-TTL:PT1H
BEGIN:VTIMEZONE
TZID:America/New_York
BEGIN:DAYLIGHT
TZOFFSETFROM:-0500
TZOFFSETTO:-0400
TZNAME:EDT
DTSTART:20250309T070000
END:DAYLIGHT
BEGIN:STANDARD
TZOFFSETFROM:-0400
TZOFFSETTO:-0500
TZNAME:EST
DTSTART:20251102T060000
END:STANDARD
BEGIN:DAYLIGHT
TZOFFSETFROM:-0500
TZOFFSETTO:-0400
TZNAME:EDT
DTSTART:20260308T070000
END:DAYLIGHT
BEGIN:STANDARD
TZOFFSETFROM:-0400
TZOFFSETTO:-0500
TZNAME:EST
DTSTART:20261101T060000
END:STANDARD
BEGIN:DAYLIGHT
TZOFFSETFROM:-0500
TZOFFSETTO:-0400
TZNAME:EDT
DTSTART:20270314T070000
END:DAYLIGHT
BEGIN:STANDARD
TZOFFSETFROM:-0400
TZOFFSETTO:-0500
TZNAME:EST
DTSTART:20271107T060000
END:STANDARD
END:VTIMEZONE
BEGIN:VEVENT
DTSTART;TZID=America/New_York:20260423T173000
DTEND;TZID=America/New_York:20260423T193000
DTSTAMP:20260423T015920
CREATED:20260316T165142Z
LAST-MODIFIED:20260316T165142Z
UID:10000911-1776965400-1776972600@babn.org
SUMMARY:Tartan Day Networking Social with Forth Capital 
DESCRIPTION:5:30 – 7:30 pm CST\nJoin Jamie Tulip of Forth Capital for a networking social in Houston to celebrate Tartan Day 2026. This event brings together the business community to honor the historical ties between Scotland\, and the UK\, and the U.S.Enjoy forging new professional connections over drinks and light bites. Whether you have Scottish roots or simply appreciate the culture (and a good kilt!)\, we invite you to raise a glass with us.
URL:https://babn.org/event/tartan-day-networking-social-with-forth-capital/
CATEGORIES:BABN Event,Texas
ATTACH;FMTTYPE=image/png:https://babn.org/wp-content/uploads/2023/03/Copy-of-Copy-of-Copy-of-News.png
END:VEVENT
BEGIN:VEVENT
DTSTART;TZID=America/New_York:20260504T180000
DTEND;TZID=America/New_York:20260504T200000
DTSTAMP:20260423T015920
CREATED:20260302T211603Z
LAST-MODIFIED:20260304T161034Z
UID:10000886-1777917600-1777924800@babn.org
SUMMARY:Annual Multinational Monday 
DESCRIPTION:6:00 – 8:00 pm CST\n\nWe’re thrilled to announce the 9th Annual Multinational Monday\, held during the Offshore Technology Conference (OTC) — and this year promises to be our biggest celebration yet.\nWhether you’re an energy professional in town for OTC or a local member of our international Chambers\, this is the premier evening to connect\, collaborate\, and celebrate global partnerships.
URL:https://babn.org/event/annual-multinational-monday/
CATEGORIES:BABN Event,Texas
ATTACH;FMTTYPE=image/png:https://babn.org/wp-content/uploads/2023/03/Copy-of-Copy-of-Copy-of-News.png
END:VEVENT
BEGIN:VEVENT
DTSTART;TZID=America/New_York:20260901T170000
DTEND;TZID=America/New_York:20260901T220000
DTSTAMP:20260423T015920
CREATED:20260309T133843Z
LAST-MODIFIED:20260309T133919Z
UID:10000909-1788282000-1788300000@babn.org
SUMMARY:Member Appreciation Night at the Astros 
DESCRIPTION:5:00 – 10:00 pm CST\nJoin us for an exclusive networking event with the Houston Astros & BABC Texas! The Houston Astros and the British-American Business Council of Texas invite you to an exclusive networking event at Daikin Park. Enjoy an evening of baseball\, great company\, and valuable connections!
URL:https://babn.org/event/member-appreciation-night-at-the-astros/
CATEGORIES:BABN Event,Texas
ATTACH;FMTTYPE=image/png:https://babn.org/wp-content/uploads/2023/03/Copy-of-Copy-of-Copy-of-News.png
END:VEVENT
END:VCALENDAR