BEGIN:VCALENDAR
VERSION:2.0
PRODID:-//BritishAmerican Business Network - ECPv6.15.20//NONSGML v1.0//EN
CALSCALE:GREGORIAN
METHOD:PUBLISH
X-WR-CALNAME:BritishAmerican Business Network
X-ORIGINAL-URL:https://babn.org
X-WR-CALDESC:Events for BritishAmerican Business Network
REFRESH-INTERVAL;VALUE=DURATION:PT1H
X-Robots-Tag:noindex
X-PUBLISHED-TTL:PT1H
BEGIN:VTIMEZONE
TZID:America/New_York
BEGIN:DAYLIGHT
TZOFFSETFROM:-0500
TZOFFSETTO:-0400
TZNAME:EDT
DTSTART:20250309T070000
END:DAYLIGHT
BEGIN:STANDARD
TZOFFSETFROM:-0400
TZOFFSETTO:-0500
TZNAME:EST
DTSTART:20251102T060000
END:STANDARD
BEGIN:DAYLIGHT
TZOFFSETFROM:-0500
TZOFFSETTO:-0400
TZNAME:EDT
DTSTART:20260308T070000
END:DAYLIGHT
BEGIN:STANDARD
TZOFFSETFROM:-0400
TZOFFSETTO:-0500
TZNAME:EST
DTSTART:20261101T060000
END:STANDARD
BEGIN:DAYLIGHT
TZOFFSETFROM:-0500
TZOFFSETTO:-0400
TZNAME:EDT
DTSTART:20270314T070000
END:DAYLIGHT
BEGIN:STANDARD
TZOFFSETFROM:-0400
TZOFFSETTO:-0500
TZNAME:EST
DTSTART:20271107T060000
END:STANDARD
END:VTIMEZONE
BEGIN:VEVENT
DTSTART;TZID=America/New_York:20260422T173000
DTEND;TZID=America/New_York:20260422T200000
DTSTAMP:20260423T014506
CREATED:20260309T121951Z
LAST-MODIFIED:20260309T121951Z
UID:10000899-1776879000-1776888000@babn.org
SUMMARY:Happy Hour 
DESCRIPTION:5:30 – 8:00 pm CST\nCome join us for Happy Hour at the Elephant & Castle Pub and Restaurant with other professionals in the Chicagoland area. A great way to connect with others and expand both your social and business relationships.Feel free to bring your friends\, colleagues or clients.
URL:https://babn.org/event/happy-hour-3/
CATEGORIES:BABN Event,Chicago
ATTACH;FMTTYPE=image/png:https://babn.org/wp-content/uploads/2022/02/Untitled-design-21.png
END:VEVENT
BEGIN:VEVENT
DTSTART;TZID=America/New_York:20260421T123000
DTEND;TZID=America/New_York:20260421T130000
DTSTAMP:20260423T014506
CREATED:20260421T135108Z
LAST-MODIFIED:20260421T135324Z
UID:10000923-1776774600-1776776400@babn.org
SUMMARY:2026 Market Update with Amegy Bank and Zions Wealth - WEBINAR 
DESCRIPTION:12:30 – 1:00 CST\nJoin BABC Texas Patron Member Amegy Bank for an exclusive 30-minute live webinar featuring Anthony Valeri\, CFA®\, Director of Investment Management at Zions Wealth.As we navigate the second quarter of 2026\, this session provides a concise\, high-level analysis of the shifting economic landscape. Anthony will leverage his 30+ years of financial services expertise to break down the drivers behind current market performance and what they mean for your investment strategy.
URL:https://babn.org/event/2026-market-update-with-amegy-bank-and-zions-wealth-webinar/
CATEGORIES:BABN Event,Texas
ATTACH;FMTTYPE=image/png:https://babn.org/wp-content/uploads/2023/03/Copy-of-Copy-of-Copy-of-News.png
END:VEVENT
BEGIN:VEVENT
DTSTART;TZID=America/New_York:20260416T173000
DTEND;TZID=America/New_York:20260416T200000
DTSTAMP:20260423T014506
CREATED:20260413T144919Z
LAST-MODIFIED:20260413T144919Z
UID:10000917-1776360600-1776369600@babn.org
SUMMARY:Multi-Chamber Mixer: BABC +22 Chamber Community Reception 
DESCRIPTION:5:30 – 8:00 pm EST\nAre you ready to expand your professional network\, gain valuable insights\, and explore new business opportunities?  Join BABC for the 2026 edition of the Multi-Chamber International Networking Mixer\, a not-to-be-missed gathering of business leaders\, industry professionals\, and entrepreneurs\, hosted by 21 bilateral business organizations and chambers of commerce.
URL:https://babn.org/event/multi-chamber-mixer-babc-22-chamber-community-reception/
CATEGORIES:BABN Event,Georgia
ATTACH;FMTTYPE=image/png:https://babn.org/wp-content/uploads/2022/02/Untitled-design-18.png
END:VEVENT
BEGIN:VEVENT
DTSTART;TZID=America/New_York:20260416T170000
DTEND;TZID=America/New_York:20260416T190000
DTSTAMP:20260423T014506
CREATED:20260406T152825Z
LAST-MODIFIED:20260406T153133Z
UID:10000912-1776358800-1776366000@babn.org
SUMMARY:BAB Accelerate Panel: Scaling the Entrepreneurial Journey  
DESCRIPTION:5:00 – 7:00 pm BST\nBritishAmerican Business will bring together a panel of seasoned entrepreneurs to discuss their story and give insight on their lived experiences as founders and business leaders who have built and scaled across markets\,  particularly between the UK and US — and the personal journeys behind those decisions. This session will bring together an audience of business leaders\, and the BAB network.
URL:https://babn.org/event/bab-accelerate-panel-scaling-the-entrepreneurial-journey/
CATEGORIES:BABN Event,British American Business
ATTACH;FMTTYPE=image/png:https://babn.org/wp-content/uploads/2022/01/Untitled-design-6.png
END:VEVENT
BEGIN:VEVENT
DTSTART;TZID=America/New_York:20260416T140000
DTEND;TZID=America/New_York:20260416T160000
DTSTAMP:20260423T014506
CREATED:20260302T211408Z
LAST-MODIFIED:20260304T160115Z
UID:10000885-1776348000-1776355200@babn.org
SUMMARY:15th Annual New Jersey Networking Event & Dinner  
DESCRIPTION:6:00 – 8:00 pm EST\nJoin us for our signature annual New Jersey networking dinner in Haddonfield\, NJ. The evening includes traditional British pub food and specialty beer from Kings Road Brewing Company\, along with networking opportunities and prizes.
URL:https://babn.org/event/15th-annual-new-jersey-networking-event-dinner/
CATEGORIES:BABN Event,Philadelpia
ATTACH;FMTTYPE=image/png:https://babn.org/wp-content/uploads/2022/01/Untitled-design-7.png
END:VEVENT
BEGIN:VEVENT
DTSTART;TZID=America/New_York:20260414T173000
DTEND;TZID=America/New_York:20260414T193000
DTSTAMP:20260423T014506
CREATED:20260309T133620Z
LAST-MODIFIED:20260309T134027Z
UID:10000908-1776187800-1776195000@babn.org
SUMMARY:Monthly BABCSD Networking Mixer 
DESCRIPTION:5:30 – 7:30 pm PST\nCalling all British business professionals and those who do business with\, to and from the United Kingdom. Join us for our monthly meeting and network with your peers. Open to Members and non-members\, this is your chance to make connections in a relaxed atmosphere
URL:https://babn.org/event/monthly-babcsd-networking-mixer-2/
CATEGORIES:BABN Event,San Diego
ATTACH;FMTTYPE=image/png:https://babn.org/wp-content/uploads/2025/07/Copy-of-Copy-of-News.png
END:VEVENT
BEGIN:VEVENT
DTSTART;TZID=America/New_York:20260414T143000
DTEND;TZID=America/New_York:20260414T173000
DTSTAMP:20260423T014506
CREATED:20260302T211251Z
LAST-MODIFIED:20260304T160041Z
UID:10000884-1776177000-1776187800@babn.org
SUMMARY:Transatlantic Business Awards Dinner 2026 
DESCRIPTION:6:30 – 9:30 pm EST \nBritishAmerican Business’ Transatlantic Business Awards Dinner is the premier gala event of the transatlantic business calendar and regularly attracts an audience of more than 400 senior business and government executives from both sides of the Atlantic. \nEach year\, BritishAmerican Business uses the occasion to present prestigious Transatlantic Business Awards to distinguished business leaders for their achievements in particular fields and\, increasingly\, for the commitment that they and their institutions have made to ESG issues and the wider transatlantic community.
URL:https://babn.org/event/transatlantic-business-awards-dinner-2026/
CATEGORIES:BABN Event,British American Business
ATTACH;FMTTYPE=image/png:https://babn.org/wp-content/uploads/2022/01/Untitled-design-6.png
END:VEVENT
BEGIN:VEVENT
DTSTART;TZID=America/New_York:20260409T180000
DTEND;TZID=America/New_York:20260409T200000
DTSTAMP:20260423T014506
CREATED:20260406T153703Z
LAST-MODIFIED:20260406T153703Z
UID:10000916-1775757600-1775764800@babn.org
SUMMARY:European Networking Cocktail 
DESCRIPTION:6:00 – 8:00 pm EST\nJoin us at Boulud Sud Restaurant at the JD Marriott Marquis Hotel for the next European Networking cocktail! Complimentary welcome drink included\, valet parking at the hotel\, or local garage parking available.
URL:https://babn.org/event/european-networking-cocktail/
CATEGORIES:BABN Event,Miami
ATTACH;FMTTYPE=image/png:https://babn.org/wp-content/uploads/2022/02/Untitled-design-27.png
END:VEVENT
BEGIN:VEVENT
DTSTART;TZID=America/New_York:20260408T083000
DTEND;TZID=America/New_York:20260408T113000
DTSTAMP:20260423T014506
CREATED:20260309T133508Z
LAST-MODIFIED:20260309T133508Z
UID:10000907-1775637000-1775647800@babn.org
SUMMARY:Powering the Boom: AI\, Data Centres and the Race to Deliver Low-Carbon Power 
DESCRIPTION:8:30 – 11:30 am CST\nJointly hosted by BABC Texas and EY\, and sponsored by EY\, this event will convene a senior-level panel exploring how industry leaders are responding to the surge in digital infrastructure and what it will take to deliver power at the pace required. The discussion will examine the role of nuclear\, natural gas and other low-carbon solutions\, alongside the practical realities of grid capacity\, permitting\, capital deployment and project execution.
URL:https://babn.org/event/powering-the-boom-ai-data-centres-and-the-race-to-deliver-low-carbon-power/
ATTACH;FMTTYPE=image/png:https://babn.org/wp-content/uploads/2023/03/Copy-of-Copy-of-Copy-of-News.png
END:VEVENT
BEGIN:VEVENT
DTSTART;TZID=America/New_York:20260331T173000
DTEND;TZID=America/New_York:20260331T193000
DTSTAMP:20260423T014506
CREATED:20260316T165001Z
LAST-MODIFIED:20260316T165001Z
UID:10000910-1774978200-1774985400@babn.org
SUMMARY:Women’s Leadership of Growth Businesses 
DESCRIPTION:5:30 – 7:30 pm EST\n\nFemale entrepreneurship has been rising rapidly worldwide\, with women initiating 49% of new businesses in 2024—a 69% increase since 2019\, reflecting a major acceleration in women-led economic activity.  As small businesses navigate growth across the pond\, as well as rapidly evolving business demands\, the perspectives and expertise of female leaders are unique and critical in advancing long‑term growth.  \nPlease join BritishAmerican Business for a panel discussion during Women’s History Month\, featuring female leaders from growth businesses. Through an open discussion on the evolving landscape of women’s leadership\, our panel will share their professional journeys\, and delve into the decisions\, challenges\, and turning points that shaped their paths as leaders. 
URL:https://babn.org/event/womens-leadership-of-growth-businesses/
CATEGORIES:BABN Event,British American Business
ATTACH;FMTTYPE=image/png:https://babn.org/wp-content/uploads/2022/01/Untitled-design-6.png
END:VEVENT
BEGIN:VEVENT
DTSTART;TZID=America/New_York:20260330T143000
DTEND;TZID=America/New_York:20260330T163000
DTSTAMP:20260423T014506
CREATED:20260302T211123Z
LAST-MODIFIED:20260302T211123Z
UID:10000883-1774881000-1774888200@babn.org
SUMMARY:Beyond the Boardroom with BAFTX 
DESCRIPTION:6:30 pm CST\n\nCelebrating its 20th anniversary of providing life-changing educational support to Texas students\, the British American Foundation of Texas (BAFTX) invites you to Beyond the Boardroom with BAFTX\nDesigned for today’s most influential and rising C-suite leaders\, this exclusive evening offers rare access to those shaping the future of global commerce. Set in Houston’s historic birthplace\, Allen’s Landing\, this is far more than a networking event. Guests will enjoy a curated four-course dinner and fine spirits\, while engaging in candid conversations with high-level executives in energy\, technology\, business and finance and building relationships that extend beyond the boardroom.
URL:https://babn.org/event/beyond-the-boardroom-with-baftx/
CATEGORIES:BABN Event,Texas
ATTACH;FMTTYPE=image/png:https://babn.org/wp-content/uploads/2023/03/Copy-of-Copy-of-Copy-of-News.png
END:VEVENT
BEGIN:VEVENT
DTSTART;TZID=America/New_York:20260327T090000
DTEND;TZID=America/New_York:20260327T110000
DTSTAMP:20260423T014506
CREATED:20260304T155926Z
LAST-MODIFIED:20260304T155926Z
UID:10000897-1774602000-1774609200@babn.org
SUMMARY:Staffordshire Gateway Growth Panel 
DESCRIPTION:9:00 – 11:00 am GMT\n\nJoin us for the launch of the Staffordshire Gateway Growth Panel report—an in‑depth\, business‑led exploration of the opportunities and challenges shaping the future of South and East Staffordshire.Developed in partnership with the Greater Birmingham Chambers of Commerce (GBCC) and our Divisional Chambers in Lichfield & Tamworth\, Burton & District\, and Cannock Chase\, the Panel brings together expertise from across the local business community to identify the key enablers needed to unlock sustainable economic growth.
URL:https://babn.org/event/staffordshire-gateway-growth-panel/
CATEGORIES:BABN Event,Birmingham
ATTACH;FMTTYPE=image/png:https://babn.org/wp-content/uploads/2022/01/Untitled-design-3.png
END:VEVENT
BEGIN:VEVENT
DTSTART;TZID=America/New_York:20260326T170000
DTEND;TZID=America/New_York:20260326T190000
DTSTAMP:20260423T014506
CREATED:20260309T133407Z
LAST-MODIFIED:20260309T133407Z
UID:10000906-1774544400-1774551600@babn.org
SUMMARY:BABC Speaker Series: Building Transatlantic Growth: Talent Strategy\, AI\, and Leadership 
DESCRIPTION:5:00 – 7:00 pm EST\nAs companies expand across the U.S. and Europe\, success depends on building leadership teams that can perform across different markets\, cultures\, and talent systems. This panel brings together experts in executive search\, workforce technology\, global assessment\, funding\, and leadership development to explore how organizations are using data and AI to identify\, assess\, and develop high-performing leaders for cross-border growth
URL:https://babn.org/event/babc-speaker-series-building-transatlantic-growth-talent-strategy-ai-and-leadership/
CATEGORIES:BABN Event,Georgia
ATTACH;FMTTYPE=image/png:https://babn.org/wp-content/uploads/2022/02/Untitled-design-18.png
END:VEVENT
BEGIN:VEVENT
DTSTART;TZID=America/New_York:20260326T113000
DTEND;TZID=America/New_York:20260326T133000
DTSTAMP:20260423T014506
CREATED:20260304T155800Z
LAST-MODIFIED:20260304T155800Z
UID:10000896-1774524600-1774531800@babn.org
SUMMARY:Link Club with Bryan DeBois 
DESCRIPTION:11:30 am – 1:30 pm EST\n\nJoin us for an exclusive Link Club luncheon hosted by the British-American Chamber of Commerce Ohio as we welcome Bryan DeBois\, Director\, Industrial Artificial Intelligence RoviSys\, as our distinguished guest speaker.
URL:https://babn.org/event/link-club-with-bryan-debois/
CATEGORIES:BABN Event,Ohio
ATTACH;FMTTYPE=image/png:https://babn.org/wp-content/uploads/2022/02/Untitled-design-20.png
END:VEVENT
BEGIN:VEVENT
DTSTART;TZID=America/New_York:20260326T103000
DTEND;TZID=America/New_York:20260326T133000
DTSTAMP:20260423T014506
CREATED:20260304T155604Z
LAST-MODIFIED:20260304T155604Z
UID:10000895-1774521000-1774531800@babn.org
SUMMARY:Solihull Expo 2026 
DESCRIPTION:10.30 am – 1.30 pm GMT\nThe Solihull Expo returns to Cranmore Park this coming March\, in what will be a vibrant gathering of professionals and business owners to foster connections and explore opportunites for collaboration. The exhibition serves as a dynamic platform for both individuals and organisations to showcase their services\, all whilst networking with local and regional businesses.
URL:https://babn.org/event/solihull-expo-2026/
CATEGORIES:BABN Event,Birmingham
ATTACH;FMTTYPE=image/png:https://babn.org/wp-content/uploads/2022/01/Untitled-design-3.png
END:VEVENT
BEGIN:VEVENT
DTSTART;TZID=America/New_York:20260325T173000
DTEND;TZID=America/New_York:20260325T200000
DTSTAMP:20260423T014506
CREATED:20260304T155427Z
LAST-MODIFIED:20260304T155427Z
UID:10000894-1774459800-1774468800@babn.org
SUMMARY:Happy Hour 
DESCRIPTION:5:30 – 8:00 pm CST\nCome join us for Happy Hour at the Elephant & Castle Pub and Restaurant with other professionals in the Chicagoland area. A great way to connect with others and expand both your social and business relationships. Feel free to bring your friends\, colleagues or clients.
URL:https://babn.org/event/happy-hour-2/
CATEGORIES:BABN Event,Chicago
ATTACH;FMTTYPE=image/png:https://babn.org/wp-content/uploads/2022/02/Untitled-design-21.png
END:VEVENT
BEGIN:VEVENT
DTSTART;TZID=America/New_York:20260325T170000
DTEND;TZID=America/New_York:20260325T190000
DTSTAMP:20260423T014506
CREATED:20260309T133222Z
LAST-MODIFIED:20260309T133229Z
UID:10000905-1774458000-1774465200@babn.org
SUMMARY:Tax Uncertainties for UK & US Companies in an era of continuous global instability  
DESCRIPTION:5:00 –  7:00 pm GMT\nCompanies headquartered in the UK and US face a uniquely complex tax environment in 2026\, shaped by shifting domestic legislation\, global minimum tax reforms\, increased compliance burdens\, incentives restructuring\, and geopolitical volatility. BAB will bring together a panel to reflect on the most consequential themes emerging this year on global tax\, UK/US economies\, and geopolitical events.
URL:https://babn.org/event/tax-uncertainties-for-uk-us-companies-in-an-era-of-continuous-global-instability/
CATEGORIES:BABN Event,British American Business
ATTACH;FMTTYPE=image/png:https://babn.org/wp-content/uploads/2022/01/Untitled-design-6.png
END:VEVENT
BEGIN:VEVENT
DTSTART;TZID=America/New_York:20260324T143000
DTEND;TZID=America/New_York:20260324T160000
DTSTAMP:20260423T014506
CREATED:20260302T210934Z
LAST-MODIFIED:20260309T132653Z
UID:10000882-1774362600-1774368000@babn.org
SUMMARY:Next Gen gathering at Tony C’s 
DESCRIPTION:6:30 – 8:00 pm EST\nJoin us for a fun evening of drinks and networking at Tony C’s. Bring along your friends and colleagues—everyone is welcome!
URL:https://babn.org/event/next-gen-gathering-at-tony-cs/
CATEGORIES:BABN Event,New England
ATTACH;FMTTYPE=image/jpeg:https://babn.org/wp-content/uploads/2022/04/Untitled-design-3.jpg
END:VEVENT
BEGIN:VEVENT
DTSTART;TZID=America/New_York:20260319T173000
DTEND;TZID=America/New_York:20260319T200000
DTSTAMP:20260423T014506
CREATED:20260304T155310Z
LAST-MODIFIED:20260309T132616Z
UID:10000893-1773941400-1773950400@babn.org
SUMMARY:International Chambers Passport Professionals – Spring Kick Off  
DESCRIPTION:5:30 – 8:00 pm EST\nThe BACC has joined together with the Collaborative Chambers Alliance\, the French-American Chamber\, the Greater Cleveland Chinese Chamber and the Swedish-American Chamber and hopes to expand to other international chambers of commerce.
URL:https://babn.org/event/international-chambers-passport-professionals-spring-kick-off/
CATEGORIES:BABN Event,Ohio
ATTACH;FMTTYPE=image/png:https://babn.org/wp-content/uploads/2022/02/Untitled-design-20.png
END:VEVENT
BEGIN:VEVENT
DTSTART;TZID=America/New_York:20260319T133000
DTEND;TZID=America/New_York:20260319T153000
DTSTAMP:20260423T014506
CREATED:20260302T210806Z
LAST-MODIFIED:20260309T132454Z
UID:10000881-1773927000-1773934200@babn.org
SUMMARY:THE STIR: Aligning Corporate Values with Employee Engagement  
DESCRIPTION:5:30 – 7:30 pm EST\nPlease join BAB for an interactive roundtable discussing the alignment of corporate values with employee engagement & retention strategies and improved employee performance metrics. Employees—particularly Gen Z and Millennials—are looking beyond compensation\, seeking purpose\, authenticity\, and social impact from their employers. When values are clearly defined and meaningfully embedded into organizational practices\, they can strengthen trust\, loyalty\, and long-term commitment.
URL:https://babn.org/event/the-stir-aligning-corporate-values-with-employee-engagement/
CATEGORIES:BABN Event,British American Business
ATTACH;FMTTYPE=image/png:https://babn.org/wp-content/uploads/2022/01/Untitled-design-6.png
END:VEVENT
BEGIN:VEVENT
DTSTART;TZID=America/New_York:20260319T133000
DTEND;TZID=America/New_York:20260319T153000
DTSTAMP:20260423T014506
CREATED:20260302T210643Z
LAST-MODIFIED:20260302T210643Z
UID:10000880-1773927000-1773934200@babn.org
SUMMARY:BAB Spring Networking Reception  
DESCRIPTION:5.30 – 7:30 pm GMT \n\nBritishAmerican Business and United Airlines warmly invite you to celebrate the arrival of spring at our upcoming networking reception\, set in one of London’s most iconic neighbourhoods\, Mayfair. Join fellow members and guests as we experience the renowned hospitality of The May Fair Hotel\, a distinguished venue kindly introduced to BAB by our member company\, Edwardian Hotels. The evening will offer a relaxed and elegant setting to make new connections\, reconnect with familiar faces\, and enjoy an array of refreshing cocktails as we welcome the new season together.
URL:https://babn.org/event/bab-spring-networking-reception-3/
CATEGORIES:BABN Event,British American Business
ATTACH;FMTTYPE=image/png:https://babn.org/wp-content/uploads/2022/01/Untitled-design-6.png
END:VEVENT
BEGIN:VEVENT
DTSTART;TZID=America/New_York:20260319T120000
DTEND;TZID=America/New_York:20260319T200000
DTSTAMP:20260423T014506
CREATED:20260302T210351Z
LAST-MODIFIED:20260304T154520Z
UID:10000879-1773921600-1773950400@babn.org
SUMMARY:36th Annual Golf Fundraising Tournament  
DESCRIPTION:9:00am – 5:00 pm PST\nGrab your clubs — our signature golf day is back and a little earlier this year!\nJoin us on March 19\, 2026 for the 36th Annual BABC-OC Golf Tournament\, a much-loved tradition that brings together great golf\, great company\, and a great cause. Enjoy a fantastic day on the course in cooler spring temperatures\, filled with the camaraderie\, contests\, and community spirit you’ve come to expect.
URL:https://babn.org/event/36th-annual-golf-fundraising-tournament/
CATEGORIES:BABN Event,Orange County
ATTACH;FMTTYPE=image/png:https://babn.org/wp-content/uploads/2022/03/Untitled-design-28.png
END:VEVENT
BEGIN:VEVENT
DTSTART;TZID=America/New_York:20260319T080000
DTEND;TZID=America/New_York:20260319T170000
DTSTAMP:20260423T014506
CREATED:20260309T133041Z
LAST-MODIFIED:20260309T133041Z
UID:10000904-1773907200-1773939600@babn.org
SUMMARY:Navigating the Next Phase of Transatlantic Trade Policy 
DESCRIPTION:4:00 – 7:00 pm EST\nJoin BABA’s Trade & Policy Committee for a panel discussion and networking reception on the topic of US-UK Transatlantic Trade. Speakers will be announced soon.
URL:https://babn.org/event/navigating-the-next-phase-of-transatlantic-trade-policy/
CATEGORIES:BABN Event,Washington DC
ATTACH;FMTTYPE=image/png:https://babn.org/wp-content/uploads/2022/01/Untitled-design-5.png
END:VEVENT
BEGIN:VEVENT
DTSTART;TZID=America/New_York:20260314T110000
DTEND;TZID=America/New_York:20260314T133000
DTSTAMP:20260423T014506
CREATED:20260304T194808Z
LAST-MODIFIED:20260304T154819Z
UID:10000892-1773486000-1773495000@babn.org
SUMMARY:US vs UK Business Expansion 
DESCRIPTION:10:00 am – 12:00pm CST\n\nThinking about taking your business across the pond? Join three of our expert BABC Texas members at SXSW for a fast-paced\, “no-filter” look at the realities of expanding between the US and the UK. Whether you’re a Texas founder eyeing the UK market or a British startup landing in the Lone Star State\, this session is designed to help you navigate the leap with confidence.
URL:https://babn.org/event/us-vs-uk-business-expansion/
CATEGORIES:BABN Event,Texas
ATTACH;FMTTYPE=image/png:https://babn.org/wp-content/uploads/2023/03/Copy-of-Copy-of-Copy-of-News.png
END:VEVENT
BEGIN:VEVENT
DTSTART;TZID=America/New_York:20260312T153000
DTEND;TZID=America/New_York:20260312T180000
DTSTAMP:20260423T014506
CREATED:20260309T132244Z
LAST-MODIFIED:20260309T132244Z
UID:10000903-1773329400-1773338400@babn.org
SUMMARY:Growing AI / Tech Collaboration Between the UK & Central Florida 
DESCRIPTION:3:30 – 6:00 pm EST\n\n\n\nJoin us at Dr. Phillips Academic Commons\, 528 W Livingston St\, Orlando\, 3280 for a panel discussion\, updates\, insights\, and networking opportunities within the British-American business community.\n\n  \nWith spaces limited to 100\, we invite you to network over beer\, wine\, and light snacks in a relaxed\, professional setting. Attendance is free and this event offers members and non-members the opportunity to connect\, and learn about key updates in the growing AI/Tech business corridor between the UK & Central Florida.
URL:https://babn.org/event/growing-ai-tech-collaboration-between-the-uk-central-florida/
CATEGORIES:BABN Event,Central Florida
ATTACH;FMTTYPE=image/jpeg:https://babn.org/wp-content/uploads/2025/02/Copy-of-News.jpg
END:VEVENT
BEGIN:VEVENT
DTSTART;TZID=America/New_York:20260305T183000
DTEND;TZID=America/New_York:20260305T200000
DTSTAMP:20260423T014506
CREATED:20260304T193130Z
LAST-MODIFIED:20260304T154909Z
UID:10000891-1772735400-1772740800@babn.org
SUMMARY:Speed Networking
DESCRIPTION:5:30 – 7:00 pm CST\n\nIrish Network Houston is partnering with the British American Business Council Texas and the Australian American Chamber of Commerce Texas for an exciting evening of speed networking designed to spark real connections. Through a series of focused\, timed conversations\, you’ll meet professionals from across Houston’s Irish\, British\, and Australian business networks — opening doors to new collaborations\, referrals\, and friendships. Come ready to connect\, exchange ideas\, and grow your international reach.
URL:https://babn.org/event/speed-networking/
CATEGORIES:BABN Event,Texas
ATTACH;FMTTYPE=image/png:https://babn.org/wp-content/uploads/2023/03/Copy-of-Copy-of-Copy-of-News.png
END:VEVENT
BEGIN:VEVENT
DTSTART;TZID=America/New_York:20260305T110000
DTEND;TZID=America/New_York:20260305T200000
DTSTAMP:20260423T014506
CREATED:20260304T192848Z
LAST-MODIFIED:20260304T192848Z
UID:10000890-1772708400-1772740800@babn.org
SUMMARY:Funded Female Founders Summit (Hosted by BABC Community Partner Startup Grind) 
DESCRIPTION:March 5\, 2026\n10:00 am – 4:00 pm PST\nJoin 200+ founders and 85+ active investors\, angels\, LPs\, and ecosystem leaders for a day of tactical insight and meaningful connection. Programming includes fireside chats with funded AI founders\, early-stage VC panels on conviction and signal\, and conversations across the capital stack exploring how funding moves from LPs to founders.
URL:https://babn.org/event/funded-female-founders-summit-hosted-by-babc-community-partner-startup-grind/
CATEGORIES:BABN Event,Northern California
ATTACH;FMTTYPE=image/png:https://babn.org/wp-content/uploads/2022/01/Untitled-design-16.png
END:VEVENT
BEGIN:VEVENT
DTSTART;TZID=America/New_York:20260304T170000
DTEND;TZID=America/New_York:20260304T190000
DTSTAMP:20260423T014506
CREATED:20251208T201230Z
LAST-MODIFIED:20260304T194530Z
UID:10000870-1772643600-1772650800@babn.org
SUMMARY:Annual Global Economic Update: 2026 Market Trends & Drivers 
DESCRIPTION:You’re invited to an exclusive fireside chat featuring leading experts who will unpack the current state of the global economy. Speakers will assess the major forces defining 2026 and the future\, providing timely perspectives on ongoing global challenges and the policy responses emerging around the world. The conversation will provide high-value insights into the current trajectory of the US\, UK\, and other key economies—and what the next stage of global growth may look like.
URL:https://babn.org/event/annual-global-economic-update-2026-market-trends-drivers/
CATEGORIES:BABN Event,Philadelpia
ATTACH;FMTTYPE=image/png:https://babn.org/wp-content/uploads/2022/01/Untitled-design-7.png
END:VEVENT
BEGIN:VEVENT
DTSTART;TZID=America/New_York:20260304T130000
DTEND;TZID=America/New_York:20260304T160000
DTSTAMP:20260423T014506
CREATED:20260304T192618Z
LAST-MODIFIED:20260304T192618Z
UID:10000889-1772629200-1772640000@babn.org
SUMMARY:International Women's Day Panel Discussion and Networking
DESCRIPTION:Join us for our 4th Annual International Women’s Day celebration\, spotlighting this year’s theme “Women as Change Makers.” Hosted in Downtown Boston\, this exciting event will feature a short town hall-style panel discussion with inspiring change makers\, leaders\, and professionals who will share their journeys\, followed by a networking reception.
URL:https://babn.org/event/international-womens-day-panel-discussion-and-networking/
CATEGORIES:BABN Event,New England
ATTACH;FMTTYPE=image/jpeg:https://babn.org/wp-content/uploads/2022/04/Untitled-design-3.jpg
END:VEVENT
BEGIN:VEVENT
DTSTART;TZID=America/New_York:20260303T130000
DTEND;TZID=America/New_York:20260303T150000
DTSTAMP:20260423T014506
CREATED:20260302T210219Z
LAST-MODIFIED:20260302T210219Z
UID:10000878-1772542800-1772550000@babn.org
SUMMARY:The Boston Biotech Brits Annual Curry & Networking Night 
DESCRIPTION:The British Consulate-General Boston is pleased to announce the return of the Boston Biotech Brits Annual Curry & Networking Night! Enjoy complimentary British beer and curry. Join us for an evening of delicious curry and the chance to network with the Life Sciences ecosystem\, as we seek to connect Brits and Anglophiles working in New England’s Biopharma\, Healthcare\, and Medical Device sectors.
URL:https://babn.org/event/the-boston-biotech-brits-annual-curry-networking-night/
CATEGORIES:BABN Event,New England
ATTACH;FMTTYPE=image/jpeg:https://babn.org/wp-content/uploads/2022/04/Untitled-design-3.jpg
END:VEVENT
END:VCALENDAR